BEGIN:VCALENDAR
VERSION:2.0
PRODID:-//eventon.com NONSGML v1.0//EN
CALSCALE:GREGORIAN
METHOD:PUBLISH
BEGIN:VEVENT
UID:69e5e6494a412
DTSTAMP:20260420T083937Z
DTSTART:20200402T170000Z
DTEND:20200402T170000Z
LOCATION:
SUMMARY:#YOMEQUEDOENCASA DI AUTRAN DENTAL ACADEMY
DESCRIPTION:Tokuyama recommends the free course with Dr. Newton Fahl today 
 at 05:00 pm on &#8220;esthetic veneers with direct and indirect technique&#
 8221;. The meeting is on Instagram at this profile → @autran.dentalacadem
 y\nhttps://www.tokuyama-dental.it/en/events/yomequedoencasa-di-autran-denta
 l-academy-2/
URL:https://www.tokuyama-dental.it/en/events/yomequedoencasa-di-autran-dental-academy-2/
END:VEVENT
END:VCALENDAR