BEGIN:VCALENDAR
VERSION:2.0
PRODID:-//eventon.com NONSGML v1.0//EN
CALSCALE:GREGORIAN
METHOD:PUBLISH
BEGIN:VEVENT
UID:69e81508b5125
DTSTAMP:20260422T002336Z
DTSTART:20220606T073000Z
DTEND:20220606T153000Z
LOCATION:Hotel Monaco &amp; Grand Canal P.za San Marco\,  1332\,  30124
SUMMARY:EXCELLENCE IN DENTISTRY 4.0 STARTING THE NEW ERA
DESCRIPTION:Last year the 2021 event was held remotely\,  a week of web-bas
 ed presentations with the final conclusion in Venice\,  in presence only wi
 th the speakers. This year the event will be held in Venice to start from w
 here we left off. The conference will involve several speakers in the morni
 ng[..]\nhttps://www.tokuyama-dental.it/es/events/xcellence-in-dentistry-4-0
 -starting-the-new-era/
URL:https://www.tokuyama-dental.it/es/events/xcellence-in-dentistry-4-0-starting-the-new-era/
END:VEVENT
END:VCALENDAR