BEGIN:VCALENDAR
VERSION:2.0
PRODID:-//eventon.com NONSGML v1.0//EN
CALSCALE:GREGORIAN
METHOD:PUBLISH
BEGIN:VEVENT
UID:69e859bbdc03c
DTSTAMP:20260422T051643Z
DTSTART:20231117T080000Z
DTEND:20231117T160000Z
LOCATION:Falmed Centro Corsi Via G. D’Annunzio 73\,  Pescara
SUMMARY:I restauri estetici adesivi - Back to the future - PARTE 1
DESCRIPTION:Le resine composite hanno raggiunto performances davvero elevat
 e. Per tale motivo le indicazioni al loro utilizzo sono esponenzialmente au
 mentate\,  specialmente negli ultimi anni. La resa estetica\,  la facilità
  di utilizzo\,  la scolpibilità\,  la longevità\,  la riparabilità\,  di
  concerto con il miglioramento delle tecnologie adesive\,  rendono oggi il 
 composito un materiale[..]\nhttps://www.tokuyama-dental.it/events/i-restaur
 i-estetici-adesivi/
URL:https://www.tokuyama-dental.it/events/i-restauri-estetici-adesivi/
END:VEVENT
END:VCALENDAR